BEGIN:VCALENDAR
VERSION:2.0
PRODID:-//日本KNX協会 - ECPv6.5.0//NONSGML v1.0//EN
CALSCALE:GREGORIAN
METHOD:PUBLISH
X-WR-CALNAME:日本KNX協会
X-ORIGINAL-URL:https://knx.or.jp
X-WR-CALDESC:日本KNX協会 のイベント
REFRESH-INTERVAL;VALUE=DURATION:PT1H
X-Robots-Tag:noindex
X-PUBLISHED-TTL:PT1H
BEGIN:VTIMEZONE
TZID:Asia/Tokyo
BEGIN:STANDARD
TZOFFSETFROM:+0900
TZOFFSETTO:+0900
TZNAME:JST
DTSTART:20250101T000000
END:STANDARD
END:VTIMEZONE
BEGIN:VEVENT
DTSTART;TZID=Asia/Tokyo:20250317T080000
DTEND;TZID=Asia/Tokyo:20250317T170000
DTSTAMP:20260425T222803
CREATED:20250317T033637Z
LAST-MODIFIED:20250429T072825Z
UID:816-1742198400-1742230800@knx.or.jp
SUMMARY:ETS6 Roadshow 2025 Japanを開催いたします (5/26)
DESCRIPTION:KNX協会本部は今年5月をETS6ロードショー月間として、各国KNX協会が同月一斉にETS6ロードショーを開催することを発表しました。\nこれに呼応し、日本KNX協会では下記の通りイベントを開催いたします。奮ってお申込みください。 \n開催日: 2025 年 5 月 26 日 (月) 14:00～15:30\n開催地: 東京都渋谷区恵比寿南1-18-3 1F、ナノテコゲートウェイ、並びにオンライン (ハイブリッド開催) \n発表内容\n1. ETS6.3の新機能について(KNX協会)\n2. ETS App “Password Manager” と “Project Tracing” について(KNX協会)\n3. Theben　ETS App DALI-Gateway S KNXのインストール方法について(スマートライト㈱中畑氏)\n(なお、発表内容は都合により変更される場合があります)\n \n\nこちらよりお申込みください。\nオンライン参加される場合は前記お申込みの他、さらにご登録が必要です。ご登録はこちら：\nhttps://us06web.zoom.us/meeting/register/M2ljFnD-RkK8wF1q-Jr54A\n \nお申込みの上、ご参加頂いた方には抽選で以下の景品が当たります。\n・ETS App “Password Manager”、1本\n・ETS App “Project Tracing”、20本\n・KNXロゴ入りTシャツ、1枚\n・ETS6 30%割引バウチャー、全員\n・KNXパートナーランキングシステムバウチャー、20本\n抽選結果は後日、申込の際に使用されたメールアドレス宛に通知されます。\nなお抽選は現地参加者が優先されますので、ご承知おきください。 \n以上
URL:https://knx.or.jp/event/ets6-roadshow-2025-japan/
CATEGORIES:イベント
ATTACH;FMTTYPE=image/jpeg:https://knx.or.jp/wp-content/uploads/2025/04/1200x600.jpg
END:VEVENT
END:VCALENDAR