BEGIN:VCALENDAR
VERSION:2.0
PRODID:-//日本KNX協会 - ECPv6.5.0//NONSGML v1.0//EN
CALSCALE:GREGORIAN
METHOD:PUBLISH
X-ORIGINAL-URL:https://knx.or.jp
X-WR-CALDESC:日本KNX協会 のイベント
REFRESH-INTERVAL;VALUE=DURATION:PT1H
X-Robots-Tag:noindex
X-PUBLISHED-TTL:PT1H
BEGIN:VTIMEZONE
TZID:Asia/Tokyo
BEGIN:STANDARD
TZOFFSETFROM:+0900
TZOFFSETTO:+0900
TZNAME:JST
DTSTART:20240101T000000
END:STANDARD
END:VTIMEZONE
BEGIN:VEVENT
DTSTART;TZID=Asia/Tokyo:20240705T133000
DTEND;TZID=Asia/Tokyo:20240705T183000
DTSTAMP:20260426T085325
CREATED:20240517T023806Z
LAST-MODIFIED:20240702T020426Z
UID:695-1720186200-1720204200@knx.or.jp
SUMMARY:KNXジャパンロードショー2024 ～札幌会場(7/5)～ 　開催について
DESCRIPTION:KNXは、住宅やビル内の様々な設備の自動制御を可能にする国際規格です。500社以上が8\,000種以上の対応機器を製造し、160ヶ国以上で使用されています。KNX準拠の照明や空調制御機器、スイッチ、センサーなどの使用により、快適性向上や省エネに向けた管理・制御などのニーズに対応でき、物件オーナーの満足度向上に貢献します。 \n日本におけるKNXの広がりを受け、日本KNX協会はデベロッパーや建設コンサルタント、ゼネコン・サブコン、設計事務所、電気工事業者、設備メーカーの方へKNXとその最新動向、事例をご紹介する「KNXロードショー2024」を昨年に引き続き、今年は札幌で開催いたします。\nまた併せて開催する情報交換会では、ご来場者様と会員の親睦のため、立食形式での軽いお食事とお飲み物をご用意しておりますので、併せてご参加ください。\nご参加は無料です。皆さまのご来場をお待ちしております。 \n\n開催日時: 2024年 7月 5日(金) 13時30分～18時30分\n開催場所: TKPガーデンシティ札幌駅前 カンファレンスルーム3A\n          北海道札幌市中央区北２条西２丁目19、アパホテルTKP札幌駅前内\n主　催  : 一般社団法人日本ＫＮＸ協会\n\nプログラム詳細\n13:15 開場\n\n第一部 講演会\n13:30-13:40	開会の挨拶\n                (一社)日本KNX 協会 会長 相原 直樹\n13:40-14:00	KNXインテグレーターになる為に学ぶべき技術と知識\n                スマートライト株式会社 代表取締役 中畑 隆拓 (日本KNX協会 理事)\n14:00-14:35	「Buildings of the Future  シュナイダーエレクトリックのサステナビリティ戦略とスマートビルティング」\n                シュナイダーエレクトリックホールディングス株式会社 事業開発本部 部長 原田 俊輔 様\n14:35-14:55	KNXの互換性あるダクトレス熱交換換気システム\n                パッシブエネルギージャパン株式会社 KNXマネジメント部 アレックス シュッスラー (日本KNX協会 理事)\n14:55-15:15	休憩\n15:15-15:50	JUNG（ヨン）スイッチによるスマートとデザインの融合提案と事例\n                プライム・スター株式会社 開発グループ 楠家 汐織 様\n15:50-16:15	KNX実例紹介\n                SUMAMO株式会社 設計部 主任 大輪 浩司 様\n16:15-16:50	スマート所有者のためのデジタルアセット管理と3D IoTダッシュボードを活用する、デジタルツインの旅へのナビゲーション\n                野原グループ株式会社 建設DX推進統括部 ビジネスデベロップメントエグゼクティブ 井上 淳 様\n16:50-17:00	閉会の挨拶\n【司会】(一社)日本KNX 協会 副会長 髙山 優樹\n\n第2 部 情報交換会\n17:00-18:30 立食形式で軽食とお飲み物をご用意しております。お誘いあわせの上ご歓談ください。\n\n※ KNXジャパンロードショー2024 札幌会場のイベント参加費は無料です。お気軽にお申込みください。\nお申込みはこちらから。\n\n注．お申込みは社用のメールアドレスでご登録ください。\n注．講演内容、講演者はやむを得ない事情により、変更される場合がございます。あらかじめご了承下さい。
URL:https://knx.or.jp/event/roadshow2024_sapporo/
LOCATION:TKPガーデンシティ札幌駅前\, 北２条西２丁目19\, 札幌市中央区\, 北海道\, 060-0002\, 日本
CATEGORIES:イベント
ATTACH;FMTTYPE=image/jpeg:https://knx.or.jp/wp-content/uploads/2024/05/ロードショー2024札幌_800x450.jpg
END:VEVENT
END:VCALENDAR