BEGIN:VCALENDAR
VERSION:2.0
PRODID:-//日本KNX協会 - ECPv6.5.0//NONSGML v1.0//EN
CALSCALE:GREGORIAN
METHOD:PUBLISH
X-WR-CALNAME:日本KNX協会
X-ORIGINAL-URL:https://knx.or.jp
X-WR-CALDESC:日本KNX協会 のイベント
REFRESH-INTERVAL;VALUE=DURATION:PT1H
X-Robots-Tag:noindex
X-PUBLISHED-TTL:PT1H
BEGIN:VTIMEZONE
TZID:Asia/Tokyo
BEGIN:STANDARD
TZOFFSETFROM:+0900
TZOFFSETTO:+0900
TZNAME:JST
DTSTART:20220101T000000
END:STANDARD
END:VTIMEZONE
BEGIN:VEVENT
DTSTART;TZID=Asia/Tokyo:20250317T080000
DTEND;TZID=Asia/Tokyo:20250317T170000
DTSTAMP:20260425T211154
CREATED:20250317T033637Z
LAST-MODIFIED:20250429T072825Z
UID:816-1742198400-1742230800@knx.or.jp
SUMMARY:ETS6 Roadshow 2025 Japanを開催いたします (5/26)
DESCRIPTION:KNX協会本部は今年5月をETS6ロードショー月間として、各国KNX協会が同月一斉にETS6ロードショーを開催することを発表しました。\nこれに呼応し、日本KNX協会では下記の通りイベントを開催いたします。奮ってお申込みください。 \n開催日: 2025 年 5 月 26 日 (月) 14:00～15:30\n開催地: 東京都渋谷区恵比寿南1-18-3 1F、ナノテコゲートウェイ、並びにオンライン (ハイブリッド開催) \n発表内容\n1. ETS6.3の新機能について(KNX協会)\n2. ETS App “Password Manager” と “Project Tracing” について(KNX協会)\n3. Theben　ETS App DALI-Gateway S KNXのインストール方法について(スマートライト㈱中畑氏)\n(なお、発表内容は都合により変更される場合があります)\n \n\nこちらよりお申込みください。\nオンライン参加される場合は前記お申込みの他、さらにご登録が必要です。ご登録はこちら：\nhttps://us06web.zoom.us/meeting/register/M2ljFnD-RkK8wF1q-Jr54A\n \nお申込みの上、ご参加頂いた方には抽選で以下の景品が当たります。\n・ETS App “Password Manager”、1本\n・ETS App “Project Tracing”、20本\n・KNXロゴ入りTシャツ、1枚\n・ETS6 30%割引バウチャー、全員\n・KNXパートナーランキングシステムバウチャー、20本\n抽選結果は後日、申込の際に使用されたメールアドレス宛に通知されます。\nなお抽選は現地参加者が優先されますので、ご承知おきください。 \n以上
URL:https://knx.or.jp/event/ets6-roadshow-2025-japan/
CATEGORIES:イベント
ATTACH;FMTTYPE=image/jpeg:https://knx.or.jp/wp-content/uploads/2025/04/1200x600.jpg
END:VEVENT
BEGIN:VEVENT
DTSTART;TZID=Asia/Tokyo:20241210T130000
DTEND;TZID=Asia/Tokyo:20241210T190000
DTSTAMP:20260425T211154
CREATED:20241014T152406Z
LAST-MODIFIED:20241126T034343Z
UID:783-1733835600-1733857200@knx.or.jp
SUMMARY:KNXジャパンロードショー2024、東京フォーラム開催について
DESCRIPTION:KNXは、住宅やビル内の様々な設備の自動制御を可能にするシステムです。500社以上が8\,000種以上の対応機器を製造し、世界160ヶ国以上で使用されています。KNX準拠の照明や空調制御機器、スイッチ、センサーなどを使用することで、デザイン性、快適性や省エネ向上のニーズに対応でき、物件オーナー様の満足度向上に貢献します。日本でも別荘やハイエンド住宅で、採用が進んでおります。\n日本KNX協会では日本各地でロードーショーイベントを開催しており、今回は東京で開催いたします。 \n講演会ではKNXの最新技術であるIoTやサステナビリティ対応のソリューション、物件実施例やKNXの特長の一つであるデザイン性の優れたスイッチなど、生で最新のKNX情報を皆様にお届けいたします。どうぞお誘いの上、ご来場ください。\nまた講演会後の懇親会では、ご来場者様や当協会員との親睦のため、立食形式で軽いお食事とお飲み物をご用意しておりますので、情報交換の場としてご活用頂ければと思います。 \n\n開催日時: 2024年12月10日(火)\n　　　　　講演会：13時00分～17時30分\n　　　　　懇親会；17時30分～19時00分\n開催場所: ヒルトン東京お台場 １F シリウス\n         東京都港区台場1-9-1\n主　催  : 一般社団法人日本ＫＮＸ協会\n協賛　　：一般社団法人建築設備綜合協会\n\nプログラム詳細\n12:45　　　 開場\n第一部　　　 講演会\n13:00-13:05 開会の挨拶 (一社)日本KNX 協会 会長 相原 直樹\n13:05-13:25 本部会長挨拶並びに基調講演\n            KNX Association cvba CEO Heinz Lux\n13:25-13:45 知っておきたい都市OS FIWAREとKNXを組み合わせて目指すスマートシティとデジタルツイン\n            日本アイ・ビー・エム株式会社 IBMコンサルティング事業本部 中務 貴之 様\n            スマートライト株式会社 代表取締役 中畑 隆拓 (日本KNX協会 理事)\n13:45-14:10 デジタルツインによる大学キャンパスFMの効率化\n            東洋大学 理工学部 建築学科 准教授 田澤 周平 様\n14:10-14:35 Digital Twin Innovations: Supporting the Full Lifecycle of Buildings\n            SIMLAB Sp. z o.o. CEO Marek Kozlak 様\n14:35-14:55 Building Management Software Solution by NETxAutomation NETxAutomation Software GmbH\n            Sales and Business Development – Asia Pacific Region Suvankar Das 様\n14:55-15:15 休憩\n15:15-15:40 カーボンニュートラル実現に向けた建築設備の役割、欧州視察報告\n            株式会社日建設計総合研究所 執行役員 湯澤 秀樹 様\n15:40-16:05 サステナビリティとKNXの関連性 シュナイダーでのKNXソリューションについて\n            Schneider Electric Industries S.A. Chief Product Officer Jean-Christophe Krieger 様\n            シュナイダーエレクトリックホールディングス株式会社 マーケティング・事業戦略本部 沖元 菜穂 様\n16:05-16:25 スマートオフィスビルにおけるKNX導入紹介\n            株式会社 別川製作所 東京支店 イノベーション推進室 室長 向井 季之 (日本KNX協会 理事)\n16:25-16:45 KNX実例紹介\n            SUMAMO株式会社 設計部 主任 大輪 浩司 様\n16:45-17:05 ダクトレス熱交換型換気システム「せせらぎ®」KNXへの統合\n            パッシブエネルギージャパン株式会社 KNXマネジメント部 アレックス シュッスラー (日本KNX協会 理事)\n17:05-17:25 JUNG（ヨン）スイッチによるスマートとデザインの融合提案と事例\n            プライム・スター株式会社 代表取締役社長 下田 知代 様\n17:25-17:30 閉会の挨拶\n           【司会】(一社)日本KNX 協会 副会長 髙山 優樹\n第二部\n情報交換会\n17:30-19:00 立食形式で軽食とお飲み物をご用意しております。お誘いあわせの上ご歓談ください。\n\n※　KNXジャパンロードショー2024 東京フォーラム第一部 講演会の参加費は無料です。お気軽にお申込みください。\n　　第二部 情報交換会につきましては、軽食とお飲み物代としてお一人\2\,000頂戴いたします。当日受付にて現金でお支払いください。\n　　情報交換会ではAmazonギフトカード(１万円)が当たる、お楽しみ抽選会も実施いたします。\n　　プログラムはこちらからダウンロードしてください。\n　　お申込みはこちらから。\n    すでに満席のため、お申込みはできません。悪しからずご了承ください。\n　　注．お申込みは社用のメールアドレスでご登録の上、当日は名刺２枚をお持ちください。\n　　注．講演内容、講演者はやむを得ない事情により、変更される場合がございます。あらかじめご了承下さい。
URL:https://knx.or.jp/event/tokyoforum2024/
CATEGORIES:イベント
ATTACH;FMTTYPE=image/png:https://knx.or.jp/wp-content/uploads/2024/10/東京Forum2024.png
END:VEVENT
BEGIN:VEVENT
DTSTART;TZID=Asia/Tokyo:20241114T140000
DTEND;TZID=Asia/Tokyo:20241114T144000
DTSTAMP:20260425T211154
CREATED:20241009T000015Z
LAST-MODIFIED:20241019T060611Z
UID:727-1731592800-1731595200@knx.or.jp
SUMMARY:KNXサステナビリティ月間行事のご案内
DESCRIPTION:今年11月はKNX協会本部が中心として、各国KNX協会がKNXによるサステナビリティを紹介する、KNXサステナビリティ月間となっております。\n日本KNX協会では11/14(木)に、協会メンバーによりKNXサステナビリティに関するパネルディスカッションを、YouTubeライブにて公開いたします。\n是非ご視聴頂き、KNXを使うことがいかにサステナブルになるかをご納得頂ければと思います。\n詳細は下記ご確認ください。皆様のご参加をお願いいたします。 \n　日時　　　　：2024年11月14(木) 14:00～14:40\n　イベント内容：Youtubeライブによるパネルディスカッション\n　　　　　　　　是非こちらにチャンネル登録の上、ご視聴ください。\n　テーマ　　　：KNXはサステナブル?!\n　パネリスト　：\n　　　髙山優樹(日本KNX協会副会長、株式会社モデュレックスエナジーイノベーションズ副社長)\n　　　中畑隆拓(日本KNX協会理事、スマートライト株式会社代表取締役)\n　　　向井季之(日本KNX協会理事、株式会社別川製作所イノベーション推進室長)\n　　　司会：相原直樹(日本KNX協会)\n\nなお日本以外の各国KNX協会で行われるイベントについてはこちらをご参照ください。 \n以上
URL:https://knx.or.jp/event/knxjapan_sustainability_2024/
CATEGORIES:イベント
ATTACH;FMTTYPE=image/png:https://knx.or.jp/wp-content/uploads/2024/08/original-600-x-300-b187b2d5-85487b88382w-1.png
END:VEVENT
BEGIN:VEVENT
DTSTART;TZID=Asia/Tokyo:20240705T133000
DTEND;TZID=Asia/Tokyo:20240705T183000
DTSTAMP:20260425T211154
CREATED:20240517T023806Z
LAST-MODIFIED:20240702T020426Z
UID:695-1720186200-1720204200@knx.or.jp
SUMMARY:KNXジャパンロードショー2024 ～札幌会場(7/5)～ 　開催について
DESCRIPTION:KNXは、住宅やビル内の様々な設備の自動制御を可能にする国際規格です。500社以上が8\,000種以上の対応機器を製造し、160ヶ国以上で使用されています。KNX準拠の照明や空調制御機器、スイッチ、センサーなどの使用により、快適性向上や省エネに向けた管理・制御などのニーズに対応でき、物件オーナーの満足度向上に貢献します。 \n日本におけるKNXの広がりを受け、日本KNX協会はデベロッパーや建設コンサルタント、ゼネコン・サブコン、設計事務所、電気工事業者、設備メーカーの方へKNXとその最新動向、事例をご紹介する「KNXロードショー2024」を昨年に引き続き、今年は札幌で開催いたします。\nまた併せて開催する情報交換会では、ご来場者様と会員の親睦のため、立食形式での軽いお食事とお飲み物をご用意しておりますので、併せてご参加ください。\nご参加は無料です。皆さまのご来場をお待ちしております。 \n\n開催日時: 2024年 7月 5日(金) 13時30分～18時30分\n開催場所: TKPガーデンシティ札幌駅前 カンファレンスルーム3A\n          北海道札幌市中央区北２条西２丁目19、アパホテルTKP札幌駅前内\n主　催  : 一般社団法人日本ＫＮＸ協会\n\nプログラム詳細\n13:15 開場\n\n第一部 講演会\n13:30-13:40	開会の挨拶\n                (一社)日本KNX 協会 会長 相原 直樹\n13:40-14:00	KNXインテグレーターになる為に学ぶべき技術と知識\n                スマートライト株式会社 代表取締役 中畑 隆拓 (日本KNX協会 理事)\n14:00-14:35	「Buildings of the Future  シュナイダーエレクトリックのサステナビリティ戦略とスマートビルティング」\n                シュナイダーエレクトリックホールディングス株式会社 事業開発本部 部長 原田 俊輔 様\n14:35-14:55	KNXの互換性あるダクトレス熱交換換気システム\n                パッシブエネルギージャパン株式会社 KNXマネジメント部 アレックス シュッスラー (日本KNX協会 理事)\n14:55-15:15	休憩\n15:15-15:50	JUNG（ヨン）スイッチによるスマートとデザインの融合提案と事例\n                プライム・スター株式会社 開発グループ 楠家 汐織 様\n15:50-16:15	KNX実例紹介\n                SUMAMO株式会社 設計部 主任 大輪 浩司 様\n16:15-16:50	スマート所有者のためのデジタルアセット管理と3D IoTダッシュボードを活用する、デジタルツインの旅へのナビゲーション\n                野原グループ株式会社 建設DX推進統括部 ビジネスデベロップメントエグゼクティブ 井上 淳 様\n16:50-17:00	閉会の挨拶\n【司会】(一社)日本KNX 協会 副会長 髙山 優樹\n\n第2 部 情報交換会\n17:00-18:30 立食形式で軽食とお飲み物をご用意しております。お誘いあわせの上ご歓談ください。\n\n※ KNXジャパンロードショー2024 札幌会場のイベント参加費は無料です。お気軽にお申込みください。\nお申込みはこちらから。\n\n注．お申込みは社用のメールアドレスでご登録ください。\n注．講演内容、講演者はやむを得ない事情により、変更される場合がございます。あらかじめご了承下さい。
URL:https://knx.or.jp/event/roadshow2024_sapporo/
LOCATION:TKPガーデンシティ札幌駅前\, 北２条西２丁目19\, 札幌市中央区\, 北海道\, 060-0002\, 日本
CATEGORIES:イベント
ATTACH;FMTTYPE=image/jpeg:https://knx.or.jp/wp-content/uploads/2024/05/ロードショー2024札幌_800x450.jpg
END:VEVENT
BEGIN:VEVENT
DTSTART;TZID=Asia/Tokyo:20240222T080000
DTEND;TZID=Asia/Tokyo:20240222T170000
DTSTAMP:20260425T211154
CREATED:20240222T043430Z
LAST-MODIFIED:20240222T043430Z
UID:661-1708588800-1708621200@knx.or.jp
SUMMARY:JLCA主催オープンセミナーのご案内
DESCRIPTION:JLCA(日本ライティングコーディネート協会)主催の第24回オープンセミナーが開催されます。\n当協会理事の中畑隆拓氏がKNXを含めたオープンプロトコルの話をされますので、奮ってご参加\nください。 \n日時：2024年3月25日 17:00～18:30\n場所：オンライン開催(Zoom) \n詳細はこちらをご覧ください。
URL:https://knx.or.jp/event/jlca%e4%b8%bb%e5%82%ac%e3%82%aa%e3%83%bc%e3%83%97%e3%83%b3%e3%82%bb%e3%83%9f%e3%83%8a%e3%83%bc%e3%81%ae%e3%81%94%e6%a1%88%e5%86%85/
CATEGORIES:イベント
ATTACH;FMTTYPE=image/png:https://knx.or.jp/wp-content/uploads/2024/02/JLCA.png
END:VEVENT
BEGIN:VEVENT
DTSTART;TZID=Asia/Tokyo:20231213T100000
DTEND;TZID=Asia/Tokyo:20231215T170000
DTSTAMP:20260425T211154
CREATED:20231128T000123Z
LAST-MODIFIED:20231128T083110Z
UID:620-1702461600-1702659600@knx.or.jp
SUMMARY:スマートハウス展２０２３への出展
DESCRIPTION:今年も日本ＫＮＸ協会はスマートハウス展に出展いたします。\n会員企業が総力を挙げて、各社製品・サービスをご紹介いたします。\nまた協会よりＫＮＸの最新情報をお届けいたします。 \n入場バッジのご登録は是非こちらより\n入場バッジのご登録 \n開催場所：東京ビッグサイト\n開催期間：2023/12/13(水)～2023/12/15(金)、10:00～18:00(最終日は17:00)\nブースNo：西２ホール(西館1F)、No.12-32ブース \n以上
URL:https://knx.or.jp/event/smarthouseexpo2023/
LOCATION:東京ビッグサイト
CATEGORIES:イベント
ATTACH;FMTTYPE=image/png:https://knx.or.jp/wp-content/uploads/2023/11/SmartHouse2023.png
END:VEVENT
BEGIN:VEVENT
DTSTART;TZID=Asia/Tokyo:20230616T133000
DTEND;TZID=Asia/Tokyo:20230616T183000
DTSTAMP:20260425T211154
CREATED:20230424T002441Z
LAST-MODIFIED:20230424T014925Z
UID:514-1686922200-1686940200@knx.or.jp
SUMMARY:KNXジャパンロードショー2023　　 ～大阪会場(6/16)～ 開催について
DESCRIPTION:KNXは、住宅やビル内の様々な設備の自動制御を可能にする国際規格です。500社以上が8\,000種以上の対応機器を製造し、160ヶ国以上で使用されています。KNX準拠の照明や空調制御機器、スイッチ、センサーなどの使用により、快適性向上や省エネに向けた管理・制御などのニーズに対応でき、物件オーナーの満足度向上に貢献します。 \n日本におけるKNXの広がりを受け、日本KNX協会はデベロッパーや建設コンサルタント、ゼネコン・サブコン、設計事務所、電気工事業者、設備メーカーの方へKNXとその最新動向、事例をご紹介する「KNXロードショー2023」を東京、福岡、大阪、金沢で開催いたします。\nまた併せて開催する懇親会では、ご来場者様と会員の親睦のため、立食形式での軽いお食事とお飲み物をご用意しておりますので、併せてご参加ください。\nご参加は無料です。皆さまのご来場をお待ちしております。 \n\n開催日時: 2023年 6月16日(金) 13時00分～18時30分\n開催場所: TKP大阪梅田駅前ビジネスセンター 3階 セミナー3-A\n          大阪府大阪市北区堂山町17-13 大阪梅田東宝ビル\n主　催  : 一般社団法人日本ＫＮＸ協会\n\nプログラム詳細\n13:15 開場\n\n第一部 講演会\n13:00-13:10 開会の挨拶\n            (一社)日本KNX 協会　会長 相原 直樹\n13:10-13:40 KNXと最近の動向について\n            (一社)日本KNX 協会　理事  中畑　隆拓\n13:40-14:10 3D walkthrough KNX integrated interface for everyone\n            野原ホールディングス株式会社　建設DX推進統括部 ビジネスデベロップメントエグゼクティブ 井上 淳 様\n14:10-14:40 シュナイダーエレクトリックのサステナビリティ戦略とスマートビルティング\n            シュナイダーエレクトリックホールディングス株式会社 マーケティング・事業開発本部長 及川 フェルナンド ニシャンタ 様\n14:40-15:00 休憩\n15:00-15:30 快適住環境実現 ・CO2監視・湿度制御、ダクトレス熱交換換気システム - インテグレーションwith KNX\n            パッシブエネルギー株式会社 代表取締役社長 クリスティアン ドイティンガ－ 様\n15:30-16:00 ライフセントリックを実現する〜JUNG（ヨン）スイッチによる空間提案\n            プライム・スター株式会社　商品部 開発グループ チーフエンジニア 長谷川 達三 様\n16:00-16:20 コネクテッドビルの導入事例\n            SUMAMO株式会社　代表取締役 アハメッド ザキ 様 / 取締役 平野 知伽 様\n16:20-16:30 閉会の挨拶\n【司会】(一社)日本KNX 協会 監事 島田 順一\n\n第2 部 情報交換会\n16:30-18:30 立食形式で軽食とお飲み物をご用意しております。お楽しみ抽選会もありますので、お誘いあわせの上ご歓談ください。\n\n※ KNXジャパンロードショー2023の全ての会場のイベント参加費は無料です。お気軽にお申込みください。\nお申込みはこちら(https://eventregist.com/e/KNXJapanRoadshow2023_Osaka)から。\n\n注．お申込みは社用のメールアドレスでご登録ください。
URL:https://knx.or.jp/event/roadshow2023_osaka/
LOCATION:TKP大阪梅田駅前ビジネスセンター\, 堂山町17-13\, 大阪市北区\, 大阪府\, 530-0027
CATEGORIES:イベント
ATTACH;FMTTYPE=image/jpeg:https://knx.or.jp/wp-content/uploads/2023/04/ロードショー2023大阪_800x450.jpg
ORGANIZER;CN="%E6%97%A5%E6%9C%ACKNX%E5%8D%94%E4%BC%9A":MAILTO:info@knx.or.jp
END:VEVENT
BEGIN:VEVENT
DTSTART;TZID=Asia/Tokyo:20230519T133000
DTEND;TZID=Asia/Tokyo:20230519T183000
DTSTAMP:20260425T211154
CREATED:20230412T074501Z
LAST-MODIFIED:20230424T014828Z
UID:506-1684503000-1684521000@knx.or.jp
SUMMARY:KNXジャパンロードショー2023　　 ～福岡会場(5/19)～ 開催について
DESCRIPTION:KNXは、住宅やビル内の様々な設備の自動制御を可能にする国際規格です。500社以上が8\,000種以上の対応機器を製造し、160ヶ国以上で使用されています。KNX準拠の照明や空調制御機器、スイッチ、センサーなどの使用により、快適性向上や省エネに向けた管理・制御などのニーズに対応でき、物件オーナーの満足度向上に貢献します。 \n日本におけるKNXの広がりを受け、日本KNX協会はデベロッパーや建設コンサルタント、ゼネコン・サブコン、設計事務所、電気工事業者、設備メーカーの方へKNXとその最新動向、事例をご紹介する「KNXロードショー2023」を東京、福岡、大阪、金沢で開催いたします。\nまた併せて開催する懇親会では、ご来場者様と会員の親睦のため、立食形式での軽いお食事とお飲み物をご用意しておりますので、併せてご参加ください。\nご参加は無料です。皆さまのご来場をお待ちしております。 \n\n開催日時: 2023年 5月19日(金) 13時30分～18時30分\n開催場所: TKPガーデンシティ博多新幹線口 セミナー3-B\n          福岡市博多区博多駅中央街5-14 福さ屋本社ビル 3階\n主　催  : 一般社団法人日本ＫＮＸ協会\n\nプログラム詳細\n13:15 開場\n\n第一部 講演会\n13:30-13:40 開会の挨拶\n            (一社)日本KNX 協会　会長 相原 直樹\n13:40-14:10 KNXと最近の動向について5\n            (一社)日本KNX 協会　副会長 髙山 優樹\n14:10-14:40 3D walkthrough KNX integrated interface for everyone\n            野原ホールディングス株式会社　建設DX推進統括部 ビジネスデベロップメントエグゼクティブ 井上 淳 様\n14:40-15:00 休憩\n15:00-15:30 シュナイダーエレクトリックのサステナビリティ戦略とスマートビルティング\n            シュナイダーエレクトリックホールディングス株式会社 マーケティング・事業開発本部長 及川 フェルナンド ニシャンタ 様\n15:30-15:50 快適住環境実現 ・CO2監視・湿度制御、ダクトレス熱交換換気システム - インテグレーションwith KNX\n            パッシブエネルギー株式会社 代表取締役 クリスティアン ドイティンガー 様\n15:50-16:20 ライフセントリックを実現する〜JUNG（ヨン）スイッチによる空間提案\n            プライム・スター株式会社　商品部 開発グループ チーフエンジニア 長谷川 達三 様\n16:20-16:30 閉会の挨拶\n【司会】(一社)日本KNX 協会 理事 中畑 隆拓\n\n第2 部 情報交換会\n16:30-18:30 立食形式で軽食とお飲み物をご用意しております。お楽しみ抽選会もありますので、お誘いあわせの上ご歓談ください。\n\n※ KNXジャパンロードショー2023の全ての会場のイベント参加費は無料です。お気軽にお申込みください。\nお申込みはこちら(https://eventregist.com/e/KNXJapanRoadshow2023_Fukuoka)から。\n\n注．お申込みは社用のメールアドレスでご登録ください。
URL:https://knx.or.jp/event/roadshow2023_fukuoka/
CATEGORIES:イベント
ATTACH;FMTTYPE=image/jpeg:https://knx.or.jp/wp-content/uploads/2023/04/ロードショー2023福岡_800x450.jpg
ORGANIZER;CN="%E6%97%A5%E6%9C%ACKNX%E5%8D%94%E4%BC%9A":MAILTO:info@knx.or.jp
END:VEVENT
BEGIN:VEVENT
DTSTART;TZID=Asia/Tokyo:20230427T130000
DTEND;TZID=Asia/Tokyo:20230427T183000
DTSTAMP:20260425T211154
CREATED:20230403T001309Z
LAST-MODIFIED:20230424T014628Z
UID:479-1682600400-1682620200@knx.or.jp
SUMMARY:KNXジャパンロードショー2023　　 ～東京会場(4/27)～ 開催について
DESCRIPTION:KNXは、住宅やビル内の様々な設備の自動制御を可能にする国際規格です。500社以上が8\,000種以上の対応機器を製造し、160ヶ国以上で使用されています。KNX準拠の照明や空調制御機器、スイッチ、センサーなどの使用により、快適性向上や省エネに向けた管理・制御などのニーズに対応でき、物件オーナーの満足度向上に貢献します。 \n日本におけるKNXの広がりを受け、日本KNX協会はデベロッパーや建設コンサルタント、ゼネコン・サブコン、設計事務所、電気工事業者、設備メーカーの方へKNXとその最新動向、事例をご紹介する「KNXロードショー2023」を東京、福岡、大阪、金沢で開催いたします。\nまた併せて開催する懇親会では、ご来場者様と会員の親睦のため、立食形式での軽いお食事とお飲み物をご用意しておりますので、併せてご参加ください。\nご参加は無料です。皆さまのご来場をお待ちしております。 \n\n開催日時: 2023年 4月27日(木) 13時00分～18時30分\n開催場所: ヒルトン東京お台場 １F シリウス\n          東京都港区台場1-9-1 ヒルトン東京お台場\n主　催  : 一般社団法人日本ＫＮＸ協会\n\nプログラム詳細\n12:45 開場\n\n第一部 講演会\n13:00-13:10 開会の挨拶\n            (一社)日本KNX 協会　会長 相原 直樹\n13:10-13:50 KNXと最近の動向について\n            (一社)日本KNX 協会　会長 相原 直樹\n13:50-14:20 ライフセントリックを実現する〜JUNG（ヨン）スイッチによる空間提案\n            プライム・スター株式会社　商品部 開発グループ チーフエンジニア 長谷川 達三 様\n14:20-14:40 コネクテッドビルの導入事例\n            SUMAMO株式会社　代表取締役 アハメッド ザキ 様 / 取締役 平野 知伽 様\n14:40-15:00 休憩\n15:00-15:30 3D walkthrough KNX integrated interface for everyone\n            野原ホールディングス株式会社　建設DX推進統括部 ビジネスデベロップメントエグゼクティブ 井上 淳 様\n15:30-16:00 シュナイダーエレクトリックのサステナビリティ戦略とスマートビルティング\n            シュナイダーエレクトリックホールディングス株式会社 マーケティング・事業開発本部長 及川 フェルナンド ニシャンタ 様\n16:00-16:20 快適住環境実現 ・CO2監視・湿度制御、ダクトレス熱交換換気システム - インテグレーションwith KNX\n            パッシブエネルギージャパン株式会社 プロダクトマネジャーKNX シュッスラー アレクス 様\n16:20-16:30 閉会の挨拶\n【司会】(一社)日本KNX 協会 副会長 髙山 優樹\n\n第2 部 情報交換会\n16:30-18:30 立食形式で軽食とお飲み物をご用意しております。お楽しみ抽選会もありますので、お誘いあわせの上ご歓談ください。\n\n※ KNXジャパンロードショー2023の全ての会場のイベント参加費は無料です。お気軽にお申込みください。\nお申込みはこちら(https://eventregist.com/e/KNXJapanRoadshow2023_Tokyo)から。\n\n注．お申込みは社用のメールアドレスでご登録ください。
URL:https://knx.or.jp/event/roadshow2023_tokyo/
LOCATION:ヒルトン東京お台場
CATEGORIES:イベント
ATTACH;FMTTYPE=image/jpeg:https://knx.or.jp/wp-content/uploads/2023/04/ロードショー2023東京_800x450.jpg
ORGANIZER;CN="%E6%97%A5%E6%9C%ACKNX%E5%8D%94%E4%BC%9A":MAILTO:info@knx.or.jp
END:VEVENT
BEGIN:VEVENT
DTSTART;TZID=Asia/Tokyo:20221111T130000
DTEND;TZID=Asia/Tokyo:20221111T173000
DTSTAMP:20260425T211154
CREATED:20220921T041655Z
LAST-MODIFIED:20221116T050050Z
UID:345-1668171600-1668187800@knx.or.jp
SUMMARY:KNXフォーラム 2022
DESCRIPTION:今年度のKNXフォーラムを以下の通り開催いたします。奮ってご参加ください。 \n開催日時　：2022年11月11日(金) 13:00 ～ 17:30\n　　　　　　なお、17:30より立食形式のネットワーキングを催します。\n開催場所　：ヒルトン東京お台場 (https://www.hiltonodaiba.jp/access/)、シリウスＡ(会場)\n開催テーマ：IoTの技術とアプリケーション\n主催・協賛：(一社)日本ＫＮＸ協会主催、(一社)建築設備綜合協会協賛\n参加費用　：セミナー、ネットワーキングいずれも無料 \n開会(13:00-13:20)\n　セッション1(13:20-14:00)：KNX IoTについて (日本KNX協会 中畑隆拓)\n　セッション2(14:00-14:40)：基調講演1 設計者から見たオープンプロトコルKNXへの期待 (三菱地所設計 小笠原雅浩様)\n　セッション3(15:00-15:40)：基調講演2 デジタルアーキテクチャ・デザインセンターにおけるスマートビルの\n　　　　　　　　　　　　　　アーキテクチャ設計 (情報処理推進機構 粕谷貴司様)\n　セッション4(15:40-16:20)：AIoTデジタルプラットフォームによるネットゼロ・スマートビルの実現と\n　　　　　　　　　　　　　　オープンプロトコルの重要性 ( Envision Digital Japan 横山大樹様)\n　セッション5(16:40-17:20)：シュナイダーエレクトリックのサステナビリティ戦略とスマートビルティング\n　　　　　　　　　　　　　　(シュナイダー・エレクトリック 白幡晶彦様)\n閉会(17:20-17:30) \nネットワーキング(17:30-19:00)\n　立食形式で簡単なお食事と飲み物をご用意しておりますので、皆様でご歓談ください。 \nお申込み\nここで受け付けております。席数が限られておりますので、お早めにお申し込みください。\nお一人様、一名のお申込みとなっております。なお準備の都合上、お申込み後にご欠席される場合は\nご一報くださるようお願い申し上げます。 \nコロナ感染対策に関するお願い\n　コロナ感染対策として、セミナー開催中はマスクの着用をお願いいたします。当日はご入場に当たり、\n　カメラ検温を実施いたします。37.5度以上の方はご入場頂けませんので、ご了承をお願いいたします。\n　ネットワーキング会場でも感染対策へのご協力をお願いいたします。
URL:https://knx.or.jp/event/knx%e3%83%95%e3%82%a9%e3%83%bc%e3%83%a9%e3%83%a0-2022/
LOCATION:ヒルトン東京お台場
CATEGORIES:イベント
ATTACH;FMTTYPE=image/jpeg:https://knx.or.jp/wp-content/uploads/2022/09/knxiotech.jpg
END:VEVENT
END:VCALENDAR